BEGIN:VCALENDAR
VERSION:2.0
PRODID:-//Zero Toxique - ECPv5.2.1.1//NONSGML v1.0//EN
CALSCALE:GREGORIAN
METHOD:PUBLISH
X-WR-CALNAME:Zero Toxique
X-ORIGINAL-URL:https://www.zero-toxique.fr
X-WR-CALDESC:évènements pour Zero Toxique
BEGIN:VTIMEZONE
TZID:Europe/Paris
BEGIN:DAYLIGHT
TZOFFSETFROM:+0100
TZOFFSETTO:+0200
TZNAME:CEST
DTSTART:20180325T010000
END:DAYLIGHT
BEGIN:STANDARD
TZOFFSETFROM:+0200
TZOFFSETTO:+0100
TZNAME:CET
DTSTART:20181028T010000
END:STANDARD
END:VTIMEZONE
BEGIN:VEVENT
DTSTART;TZID=Europe/Paris:20181109T130000
DTEND;TZID=Europe/Paris:20181109T150000
DTSTAMP:20260422T083336
CREATED:20180918T045343Z
LAST-MODIFIED:20181009T065648Z
UID:30264-1541768400-1541775600@www.zero-toxique.fr
SUMMARY:Atelier Couches Lavables Grenoble
DESCRIPTION:Dans le cadre de son programme local de prévention des déchets\, Grenoble-Alpes Métropole propose des ateliers de découverte des couches lavables. \nLors de ces ateliers pratiques d’information\, vous découvrirez : \n\nLes enjeux environnementaux\, économiques & sanitaires des couches lavables.\nLes différents modèles de couches lavables existants.\nDes conseils pratiques pour faciliter le stockage\, lavage et séchage des couches.\n\nL’atelier est également un temps de rencontre avec d’autres habitants qui souhaitent se lancer dans cette démarche. \nA l’issue de cet atelier\, des kits de couches pourront être prêtés aux personnes intéressées pour tester avant de se lancer ! \nPublic : Ouvert à tous \nCoût : Atelier gratuit \nInscription SUR LE SITE du Festival MaMasté www.mamaste.fr – Atelier limité à 15  participants
URL:https://www.zero-toxique.fr/event/atelier-couches-lavables-grenoble-2/
LOCATION:Festival MaMasté\, Le Clos des Capucins\, 18 chemin des Villauds\, Meylan\, 38240
CATEGORIES:Atelier Couches Lavables
END:VEVENT
END:VCALENDAR