BEGIN:VCALENDAR
VERSION:2.0
PRODID:-//Zero Toxique - ECPv5.2.1.1//NONSGML v1.0//EN
CALSCALE:GREGORIAN
METHOD:PUBLISH
X-WR-CALNAME:Zero Toxique
X-ORIGINAL-URL:https://www.zero-toxique.fr
X-WR-CALDESC:évènements pour Zero Toxique
BEGIN:VTIMEZONE
TZID:Europe/Paris
BEGIN:DAYLIGHT
TZOFFSETFROM:+0100
TZOFFSETTO:+0200
TZNAME:CEST
DTSTART:20190331T010000
END:DAYLIGHT
BEGIN:STANDARD
TZOFFSETFROM:+0200
TZOFFSETTO:+0100
TZNAME:CET
DTSTART:20191027T010000
END:STANDARD
END:VTIMEZONE
BEGIN:VEVENT
DTSTART;TZID=Europe/Paris:20190211T173000
DTEND;TZID=Europe/Paris:20190211T193000
DTSTAMP:20260422T084311
CREATED:20181230T072645Z
LAST-MODIFIED:20181230T072725Z
UID:30395-1549906200-1549913400@www.zero-toxique.fr
SUMMARY:Atelier Couches Lavables / Voiron
DESCRIPTION:Dans le cadre de son programme local de prévention des déchets\, Le Pays Voironnais propose des ateliers de découverte des couches lavables. \nLors de ces ateliers pratiques d’information\, vous découvrirez : \n\nLes enjeux environnementaux\, économiques & sanitaires des couches lavables.\nLes différents modèles de couches lavables existants.\nDes conseils pratiques pour faciliter le stockage\, lavage et séchage des couches.\n\nL’atelier est également un temps de rencontre avec d’autres habitants qui souhaitent se lancer dans cette démarche. \nA l’issue de cet atelier\,  les personnes intéressées peuvent emprunter un kit de couches \, sous réserve d’habiter sur le territoire\, pour tester avant de se lancer ! \nPublic : Ouvert à tous \nCoût : Atelier gratuit \nInscription obligatoire et renseignements : voironcoucheslavables@gmail.com \nD’autres ateliers sont animés régulièrement sur les territoires d’Aix-Les-Bains\, Annecy\, Chambéry\, Grenoble & Voiron.
URL:https://www.zero-toxique.fr/event/atelier-couches-lavables-voiron-6/
LOCATION:Centre Social Charles Béraudier\, 6 Avenue Jules Ravat\, Voiron\, 38500
END:VEVENT
END:VCALENDAR