BEGIN:VCALENDAR
VERSION:2.0
PRODID:-//Zero Toxique - ECPv5.2.1.1//NONSGML v1.0//EN
CALSCALE:GREGORIAN
METHOD:PUBLISH
X-WR-CALNAME:Zero Toxique
X-ORIGINAL-URL:https://www.zero-toxique.fr
X-WR-CALDESC:évènements pour Zero Toxique
BEGIN:VTIMEZONE
TZID:Europe/Paris
BEGIN:DAYLIGHT
TZOFFSETFROM:+0100
TZOFFSETTO:+0200
TZNAME:CEST
DTSTART:20180325T010000
END:DAYLIGHT
BEGIN:STANDARD
TZOFFSETFROM:+0200
TZOFFSETTO:+0100
TZNAME:CET
DTSTART:20181028T010000
END:STANDARD
END:VTIMEZONE
BEGIN:VEVENT
DTSTART;TZID=Europe/Paris:20181111T130000
DTEND;TZID=Europe/Paris:20181111T150000
DTSTAMP:20260422T101911
CREATED:20180918T044641Z
LAST-MODIFIED:20180918T044641Z
UID:30260-1541941200-1541948400@www.zero-toxique.fr
SUMMARY:Atelier Ma Maison Ma Santé "Bricolage-Décoration-Rénovation" / Grenoble
DESCRIPTION:Les ateliers Ma Maison Ma Santé sont des ateliers pratiques d’information & de sensibilisation au décryptage des polluants du quotidien. \nLes objectifs des ateliers sont : \n– Tout d’abord de sensibiliser tous les publics\, et particulièrement les parents\, à l’impact de leur environnement quotidien sur leur santé et celles de leur enfants\n– Et de permettre à chacun de développer une vigilance et un regard critique sur les produits de consommation courante\n– Aussi\, d’aider les parents à trouver des alternatives plus saines et économiques en respectant le rythme et les priorités de chacun\n– De manière à favoriser l’implication des participants en s’appuyant sur l’échange de bonnes pratiques et d’expériences personnelles\n– Enfin si possible\, de réaliser ensemble une recette dans le thème du jour \nInscription SUR LE SITE du Festival MaMasté www.mamaste.fr – Atelier limité à 15  participants \nLes ateliers Ma Maison Ma Santé se déclinent en 5 thématiques : produits de rénovation/décoration\, produits ménagers\, produits cosmétiques et d’hygiène\, aliments et contenants alimentaires\, jouets et vêtements. \nD’autres ateliers sont animés régulièrement sur les territoires d’Aix-Les-Bains\, Annecy\, Chambéry\, Grenoble & Voiron.
URL:https://www.zero-toxique.fr/event/atelier-ma-maison-ma-sante-bricolage-decoration-renovation-grenoble/
LOCATION:Festival MaMasté\, Le Clos des Capucins\, 18 chemin des Villauds\, Meylan\, 38240
CATEGORIES:Atelier Ma Maison Ma Santé
END:VEVENT
END:VCALENDAR