BEGIN:VCALENDAR
VERSION:2.0
PRODID:-//Zero Toxique - ECPv5.2.1.1//NONSGML v1.0//EN
CALSCALE:GREGORIAN
METHOD:PUBLISH
X-WR-CALNAME:Zero Toxique
X-ORIGINAL-URL:https://www.zero-toxique.fr
X-WR-CALDESC:évènements pour Zero Toxique
BEGIN:VTIMEZONE
TZID:Europe/Paris
BEGIN:DAYLIGHT
TZOFFSETFROM:+0100
TZOFFSETTO:+0200
TZNAME:CEST
DTSTART:20180325T010000
END:DAYLIGHT
BEGIN:STANDARD
TZOFFSETFROM:+0200
TZOFFSETTO:+0100
TZNAME:CET
DTSTART:20181028T010000
END:STANDARD
END:VTIMEZONE
BEGIN:VEVENT
DTSTART;TZID=Europe/Paris:20181107T140000
DTEND;TZID=Europe/Paris:20181107T180000
DTSTAMP:20260422T115810
CREATED:20181031T092052Z
LAST-MODIFIED:20181031T092155Z
UID:30311-1541599200-1541613600@www.zero-toxique.fr
SUMMARY:Stand Couches Lavables & Fabrication Maison / Liniment / Grenoble
DESCRIPTION:Dans le cadre de son programme local de prévention des déchets\, Grenoble-Alpes Métropole propose un stand de découverte des couches lavables à l’occasion de la Foire de Grenoble \nCe sera l’occasion de découvrir les couches lavables et de confectionner son liniment oléo-calcaire “maison” (produit de toilette pour bébé) \nVenez découvrir une recette maison ultra simple\, adaptées au change et à la toilette de bébé : le liniment oléo-calcaire. \nLes Couches Lavables et le Liniment Maison : Meilleures pour la santé de notre planète\, pour celle de notre porte monnaie et pour celle de bébé !!! \nLieu : Alpexpo\, Avenue d’Innsbruck\, 38100 Grenoble \nPublic : Ouvert à tous
URL:https://www.zero-toxique.fr/event/stand-couches-lavables-fabrication-maison-liniment-grenoble/
LOCATION:Alpexpo\, Avenue d'Innsbruck\, Grenoble\, 38100
CATEGORIES:Atelier Fabrication Maison,Stand Couches Lavables
END:VEVENT
END:VCALENDAR