BEGIN:VCALENDAR
VERSION:2.0
PRODID:-//Zero Toxique - ECPv5.2.1.1//NONSGML v1.0//EN
CALSCALE:GREGORIAN
METHOD:PUBLISH
X-WR-CALNAME:Zero Toxique
X-ORIGINAL-URL:https://www.zero-toxique.fr
X-WR-CALDESC:évènements pour Zero Toxique
BEGIN:VTIMEZONE
TZID:Europe/Paris
BEGIN:DAYLIGHT
TZOFFSETFROM:+0100
TZOFFSETTO:+0200
TZNAME:CEST
DTSTART:20180325T010000
END:DAYLIGHT
BEGIN:STANDARD
TZOFFSETFROM:+0200
TZOFFSETTO:+0100
TZNAME:CET
DTSTART:20181028T010000
END:STANDARD
END:VTIMEZONE
BEGIN:VEVENT
DTSTART;TZID=Europe/Paris:20181027T100000
DTEND;TZID=Europe/Paris:20181027T120000
DTSTAMP:20260422T100514
CREATED:20180823T205258Z
LAST-MODIFIED:20180823T205400Z
UID:30243-1540634400-1540641600@www.zero-toxique.fr
SUMMARY:Atelier Couches Lavables / Saint Laurent Du Pont
DESCRIPTION:Dans le cadre de son programme local de prévention des déchets\, La Communauté Coeur de Chartreuse propose un atelier de découverte des couches lavables lors du salon Petite Enfance organisé par le service Jeunesse. \nLors de ces ateliers pratiques d’information\, vous découvrirez : \n\nLes enjeux environnementaux\, économiques & sanitaires des couches lavables.\nLes différents modèles de couches lavables existants.\nDes conseils pratiques pour faciliter le stockage\, lavage et séchage des couches.\n\nL’atelier est également un temps de rencontre avec d’autres habitants qui souhaitent se lancer dans cette démarche. \nPublic : Ouvert à tous \nCoût : Atelier gratuit \nRenseignements : zerotoxiquezerogaspizerodechet@gmail.com \nD’autres ateliers sont animés régulièrement sur les territoires d’Aix-Les-Bains\, Annecy\, Chambéry\, Grenoble & Voiron.
URL:https://www.zero-toxique.fr/event/atelier-couches-lavables-saint-laurent-du-pont/
CATEGORIES:Atelier Couches Lavables
END:VEVENT
END:VCALENDAR