BEGIN:VCALENDAR
VERSION:2.0
PRODID:-//Zero Toxique - ECPv5.2.1.1//NONSGML v1.0//EN
CALSCALE:GREGORIAN
METHOD:PUBLISH
X-WR-CALNAME:Zero Toxique
X-ORIGINAL-URL:https://www.zero-toxique.fr
X-WR-CALDESC:évènements pour Zero Toxique
BEGIN:VTIMEZONE
TZID:Europe/Paris
BEGIN:DAYLIGHT
TZOFFSETFROM:+0100
TZOFFSETTO:+0200
TZNAME:CEST
DTSTART:20180325T010000
END:DAYLIGHT
BEGIN:STANDARD
TZOFFSETFROM:+0200
TZOFFSETTO:+0100
TZNAME:CET
DTSTART:20181028T010000
END:STANDARD
END:VTIMEZONE
BEGIN:VEVENT
DTSTART;TZID=Europe/Paris:20181124T170000
DTEND;TZID=Europe/Paris:20181124T190000
DTSTAMP:20260422T082442
CREATED:20180918T050906Z
LAST-MODIFIED:20180918T050959Z
UID:30276-1543078800-1543086000@www.zero-toxique.fr
SUMMARY:Atelier Couches Lavables / Chambéry
DESCRIPTION:Dans le cadre de son programme local de prévention des déchets\, Grand Chambéry propose des ateliers de découverte des couches lavables. \nLors de ces ateliers pratiques d’information\, vous découvrirez : \n\nLes enjeux environnementaux\, économiques & sanitaires des couches lavables.\nLes différents modèles de couches lavables existants.\nDes conseils pratiques pour faciliter le stockage\, lavage et séchage des couches.\n\nL’atelier est également un temps de rencontre avec d’autres habitants qui souhaitent se lancer dans cette démarche. \nA l’issue de cet atelier\,  les personnes intéressées peuvent emprunter un kit de couches \, sous réserve d’habiter sur le territoire\, pour tester avant de se lancer ! \nPublic : Ouvert à tous \nCoût : Atelier gratuit \nInscription obligatoire et renseignements : Inscription au 0 800 881 007 ou animation.dechets@grandchambery.fr
URL:https://www.zero-toxique.fr/event/atelier-couches-lavables-chambery/
LOCATION:Eco-Appart Chambery\, 37 square Chablais\, Chambéry\, 73000
CATEGORIES:Atelier Couches Lavables
END:VEVENT
END:VCALENDAR