BEGIN:VCALENDAR
VERSION:2.0
PRODID:-//Zero Toxique - ECPv5.2.1.1//NONSGML v1.0//EN
CALSCALE:GREGORIAN
METHOD:PUBLISH
X-WR-CALNAME:Zero Toxique
X-ORIGINAL-URL:https://www.zero-toxique.fr
X-WR-CALDESC:évènements pour Zero Toxique
BEGIN:VTIMEZONE
TZID:Europe/Paris
BEGIN:DAYLIGHT
TZOFFSETFROM:+0100
TZOFFSETTO:+0200
TZNAME:CEST
DTSTART:20190331T010000
END:DAYLIGHT
BEGIN:STANDARD
TZOFFSETFROM:+0200
TZOFFSETTO:+0100
TZNAME:CET
DTSTART:20191027T010000
END:STANDARD
END:VTIMEZONE
BEGIN:VEVENT
DTSTART;TZID=Europe/Paris:20191216T090000
DTEND;TZID=Europe/Paris:20191216T110000
DTSTAMP:20260421T103418
CREATED:20191117T063945Z
LAST-MODIFIED:20191117T063945Z
UID:30705-1576486800-1576494000@www.zero-toxique.fr
SUMMARY:Atelier Couches Lavables / Grenoble
DESCRIPTION:Dans le cadre de son programme local de prévention des déchets\, Grenoble-Alpes Métropole propose des ateliers de découverte des couches lavables. \nLors de ces ateliers pratiques d’information\, vous découvrirez : \n\nLes enjeux environnementaux\, économiques & sanitaires des couches lavables.\nLes différents modèles de couches lavables existants.\nDes conseils pratiques pour faciliter le stockage\, lavage et séchage des couches.\n\nL’atelier est également un temps de rencontre avec d’autres habitants qui souhaitent se lancer dans cette démarche. \nA l’issue de cet atelier\, des kits de couches pourront être prêtés aux personnes intéressées pour tester avant de se lancer ! \nPublic : Ouvert à tous \nCoût : Atelier gratuit \nInscription grenoblecoucheslavables@gmail.com – Atelier limité à 15  participants \nD’autres ateliers sont animés régulièrement sur les territoires d’Aix-Les-Bains\, Annecy\, Belley\, Chambéry\, Grenoble & Voiron.
URL:https://www.zero-toxique.fr/event/atelier-couches-lavables-grenoble-22/
LOCATION:CHU Grenoble Alpes\, Hôpital Couple-Enfant \,Salle Colibri (ex-salle de Repas)\, RDC\, Avenue maquis du Grésivaudan\, La Tronche\, 38700
CATEGORIES:Atelier Couches Lavables
END:VEVENT
BEGIN:VEVENT
DTSTART;TZID=Europe/Paris:20191216T173000
DTEND;TZID=Europe/Paris:20191216T193000
DTSTAMP:20260421T103418
CREATED:20190820T091804Z
LAST-MODIFIED:20190820T091804Z
UID:30612-1576517400-1576524600@www.zero-toxique.fr
SUMMARY:Atelier Couches Lavables / Voiron
DESCRIPTION:Dans le cadre de son programme local de prévention des déchets\, Le Pays Voironnais propose des ateliers de découverte des couches lavables. \nLors de ces ateliers pratiques d’information\, vous découvrirez : \n\nLes enjeux environnementaux\, économiques & sanitaires des couches lavables.\nLes différents modèles de couches lavables existants.\nDes conseils pratiques pour faciliter le stockage\, lavage et séchage des couches.\n\nL’atelier est également un temps de rencontre avec d’autres habitants qui souhaitent se lancer dans cette démarche. \nA l’issue de cet atelier\,  les personnes intéressées peuvent emprunter un kit de couches \, sous réserve d’habiter sur le territoire\, pour tester avant de se lancer ! \nPublic : Ouvert à tous \nCoût : Atelier gratuit \nInscription obligatoire et renseignements : voironcoucheslavables@gmail.com \nD’autres ateliers sont animés régulièrement sur les territoires d’Aix-Les-Bains\, Annecy\, Belley\, Chambéry\, Grenoble & Voiron.
URL:https://www.zero-toxique.fr/event/atelier-couches-lavables-voiron-15/
LOCATION:Centre Social Charles Béraudier\, 6 Avenue Jules Ravat\, Voiron\, 38500
CATEGORIES:Atelier Couches Lavables
END:VEVENT
END:VCALENDAR